BEGIN:VCALENDAR
VERSION:2.0
PRODID:-//wp-events-plugin.com//7.2.3.1//EN
TZID:Europe/Zurich
X-WR-TIMEZONE:Europe/Zurich
BEGIN:VEVENT
UID:10114@sg-muelchi.ch
DTSTART;TZID=Europe/Zurich;VALUE=DATE:20250905
DTEND;TZID=Europe/Zurich;VALUE=DATE:20250906
DTSTAMP:20250721T174851Z
URL:https://www.sg-muelchi.ch/termin/150-jahre-jubilaeum-sg-siselen/
SUMMARY:150 Jahre Jubiläum SG Siselen
DESCRIPTION:
CATEGORIES:extern
LOCATION:Schützenhaus - Siselen\, Schützenhausweg\, Siselen\, 2577\, Schw
 eiz
GEO:47.036043;7.188964
X-APPLE-STRUCTURED-LOCATION;VALUE=URI;X-ADDRESS=Schützenhausweg\, Siselen\
 , 2577\, Schweiz;X-APPLE-RADIUS=100;X-TITLE=Schützenhaus - Siselen:geo:47
 .036043,7.188964
END:VEVENT
BEGIN:VTIMEZONE
TZID:Europe/Zurich
X-LIC-LOCATION:Europe/Zurich
BEGIN:DAYLIGHT
DTSTART:20250330T030000
TZOFFSETFROM:+0100
TZOFFSETTO:+0200
TZNAME:CEST
END:DAYLIGHT
END:VTIMEZONE
END:VCALENDAR