BEGIN:VCALENDAR
VERSION:2.0
PRODID:-//wp-events-plugin.com//7.2.3.1//EN
TZID:Europe/Zurich
X-WR-TIMEZONE:Europe/Zurich
BEGIN:VEVENT
UID:76@sg-muelchi.ch
DTSTART;VALUE=DATE:20210622
DTEND;VALUE=DATE:20210627
DTSTAMP:20210401T063944Z
URL:https://www.sg-muelchi.ch/termin/2-hauptrunde-schweizer-gruppenmeister
 schaft-gewehr-300m/
SUMMARY:2. Hauptrunde Schweizer Gruppenmeisterschaft Gewehr 300M
DESCRIPTION:Die Zuständigkeiten können im [Ämtliplan] nachgesehen werden
 .
CATEGORIES:extern
LOCATION:Schützenhaus - Mülchi\, Mühlegässli\, Mülchi\, Bern\, 3317\, 
 Verwaltungskreis Bern-Mittelland\, Schweiz
GEO:47.097152;7.477913
X-APPLE-STRUCTURED-LOCATION;VALUE=URI;X-ADDRESS=Mühlegässli\, Mülchi\, B
 ern\, 3317\, Verwaltungskreis Bern-Mittelland\, Schweiz;X-APPLE-RADIUS=100
 ;X-TITLE=Schützenhaus - Mülchi:geo:47.097152,7.477913
END:VEVENT
END:VCALENDAR