BEGIN:VCALENDAR
VERSION:2.0
PRODID:-//wp-events-plugin.com//7.2.3.1//EN
TZID:Europe/Zurich
X-WR-TIMEZONE:Europe/Zurich
BEGIN:VEVENT
UID:10132@sg-muelchi.ch
DTSTART;TZID=Europe/Zurich:20260321T000000
DTEND;TZID=Europe/Zurich:20260321T000000
DTSTAMP:20260317T143244Z
URL:https://www.sg-muelchi.ch/termin/buri-cup-1-runde-5/
SUMMARY:Buri-Cup 1. Runde
DESCRIPTION:
CATEGORIES:Buri-Cup
END:VEVENT
BEGIN:VTIMEZONE
TZID:Europe/Zurich
X-LIC-LOCATION:Europe/Zurich
BEGIN:STANDARD
DTSTART:20251026T020000
TZOFFSETFROM:+0200
TZOFFSETTO:+0100
TZNAME:CET
END:STANDARD
END:VTIMEZONE
END:VCALENDAR