BEGIN:VCALENDAR
VERSION:2.0
PRODID:-//wp-events-plugin.com//7.2.3.1//EN
TZID:Europe/Zurich
X-WR-TIMEZONE:Europe/Zurich
BEGIN:VEVENT
UID:72@sg-muelchi.ch
DTSTART:20210410T073000Z
DTEND:20210410T090000Z
DTSTAMP:20210407T144334Z
URL:https://www.sg-muelchi.ch/termin/buri-cup-2021-2-runde/
SUMMARY:Buri-Cup 2021 - 2. Runde
DESCRIPTION:Die Zuständigkeiten können im [Ämtliplan] nachgesehen werden
 .
CATEGORIES:Buri-Cup
LOCATION:Schützenhaus - Mülchi\, Mühlegässli\, Mülchi\, Bern\, 3317\, 
 Verwaltungskreis Bern-Mittelland\, Schweiz
GEO:47.097152;7.477913
X-APPLE-STRUCTURED-LOCATION;VALUE=URI;X-ADDRESS=Mühlegässli\, Mülchi\, B
 ern\, 3317\, Verwaltungskreis Bern-Mittelland\, Schweiz;X-APPLE-RADIUS=100
 ;X-TITLE=Schützenhaus - Mülchi:geo:47.097152,7.477913
END:VEVENT
END:VCALENDAR