BEGIN:VCALENDAR
VERSION:2.0
PRODID:-//wp-events-plugin.com//7.2.3.1//EN
TZID:Europe/Zurich
X-WR-TIMEZONE:Europe/Zurich
BEGIN:VEVENT
UID:1@sg-muelchi.ch
DTSTART;TZID=Europe/Zurich:20200321T130000
DTEND;TZID=Europe/Zurich:20200321T170000
DTSTAMP:20200304T161017Z
URL:https://www.sg-muelchi.ch/termin/buricup-1-runde/
SUMMARY:Buricup - 1. Runde
DESCRIPTION:&nbsp\;\n\n\n\nFeld D\nOrt&nbsp\;\nSchiesszeit\nScheibe&nbsp\;\
 n\n\nMülchi SG 1\nMünchringen\n13:00 - 14:30\nScheibe 2\n\n\nMülchi SG 
 2\nLimpach\n13:00 - 14:30\nScheibe 4\n\n\nMülchi SG 3\nMünchenbuchsee B
 ärenried\n14:00 - 16:00\nScheibe 2\n\n\nFeld E\nOrt&nbsp\;\nSchiesszeit\n
 Scheibe&nbsp\;\n\n\nMülchi SG1\nLimpach\n14:45 - 16:15\nScheibe 1\n\n\n
CATEGORIES:Buri-Cup
END:VEVENT
BEGIN:VTIMEZONE
TZID:Europe/Zurich
X-LIC-LOCATION:Europe/Zurich
BEGIN:STANDARD
DTSTART:20191027T020000
TZOFFSETFROM:+0200
TZOFFSETTO:+0100
TZNAME:CET
END:STANDARD
END:VTIMEZONE
END:VCALENDAR