BEGIN:VCALENDAR
VERSION:2.0
PRODID:-//wp-events-plugin.com//7.2.3.1//EN
TZID:Europe/Zurich
X-WR-TIMEZONE:Europe/Zurich
BEGIN:VEVENT
UID:3@sg-muelchi.ch
DTSTART;TZID=Europe/Zurich;VALUE=DATE:20200418
DTEND;TZID=Europe/Zurich;VALUE=DATE:20200419
DTSTAMP:20200217T085111Z
URL:https://www.sg-muelchi.ch/termin/buricup-3-runde/
SUMMARY:Buricup - 3. Runde
DESCRIPTION:
CATEGORIES:Buri-Cup
END:VEVENT
BEGIN:VTIMEZONE
TZID:Europe/Zurich
X-LIC-LOCATION:Europe/Zurich
BEGIN:DAYLIGHT
DTSTART:20200329T030000
TZOFFSETFROM:+0100
TZOFFSETTO:+0200
TZNAME:CEST
END:DAYLIGHT
END:VTIMEZONE
END:VCALENDAR