BEGIN:VCALENDAR
VERSION:2.0
PRODID:-//wp-events-plugin.com//7.2.3.1//EN
TZID:Europe/Zurich
X-WR-TIMEZONE:Europe/Zurich
BEGIN:VEVENT
UID:4@sg-muelchi.ch
DTSTART;TZID=Europe/Zurich;VALUE=DATE:20200502
DTEND;TZID=Europe/Zurich;VALUE=DATE:20200503
DTSTAMP:20200304T161406Z
URL:https://www.sg-muelchi.ch/termin/buricup-final/
SUMMARY:Buricup - Final
DESCRIPTION:
CATEGORIES:Buri-Cup
LOCATION:Schützenhaus - Binnel Grafenried\, Binnel\, Grafenried\, Bern\, 3
 308\, Verwaltungskreis Bern-Mittelland\, Schweiz
GEO:47.084267;7.508426
X-APPLE-STRUCTURED-LOCATION;VALUE=URI;X-ADDRESS=Binnel\, Grafenried\, Bern\
 , 3308\, Verwaltungskreis Bern-Mittelland\, Schweiz;X-APPLE-RADIUS=100;X-T
 ITLE=Schützenhaus - Binnel Grafenried:geo:47.084267,7.508426
END:VEVENT
BEGIN:VTIMEZONE
TZID:Europe/Zurich
X-LIC-LOCATION:Europe/Zurich
BEGIN:DAYLIGHT
DTSTART:20200329T030000
TZOFFSETFROM:+0100
TZOFFSETTO:+0200
TZNAME:CEST
END:DAYLIGHT
END:VTIMEZONE
END:VCALENDAR