BEGIN:VCALENDAR
VERSION:2.0
PRODID:-//wp-events-plugin.com//7.2.3.1//EN
TZID:Europe/Zurich
X-WR-TIMEZONE:Europe/Zurich
BEGIN:VEVENT
UID:10075@sg-muelchi.ch
DTSTART;TZID=Europe/Zurich:20250524T160000
DTEND;TZID=Europe/Zurich:20250524T200000
DTSTAMP:20250212T105233Z
URL:https://www.sg-muelchi.ch/termin/feldschiessen-16/
SUMMARY:Feldschiessen
DESCRIPTION:
CATEGORIES:Bundesübung,Schiessen
LOCATION:Schützenhaus - Limpach\, Schützenhaus\, Limpach\, Bern\, 3317\, 
 Verwaltungskreis Bern-Mittelland\, Schweiz
GEO:47.105478;7.490959
X-APPLE-STRUCTURED-LOCATION;VALUE=URI;X-ADDRESS=Schützenhaus\, Limpach\, B
 ern\, 3317\, Verwaltungskreis Bern-Mittelland\, Schweiz;X-APPLE-RADIUS=100
 ;X-TITLE=Schützenhaus - Limpach:geo:47.105478,7.490959
END:VEVENT
BEGIN:VTIMEZONE
TZID:Europe/Zurich
X-LIC-LOCATION:Europe/Zurich
BEGIN:DAYLIGHT
DTSTART:20250330T030000
TZOFFSETFROM:+0100
TZOFFSETTO:+0200
TZNAME:CEST
END:DAYLIGHT
END:VTIMEZONE
END:VCALENDAR