BEGIN:VCALENDAR
VERSION:2.0
PRODID:-//wp-events-plugin.com//7.2.3.1//EN
TZID:Europe/Zurich
X-WR-TIMEZONE:Europe/Zurich
BEGIN:VEVENT
UID:79@sg-muelchi.ch
DTSTART:20210723T160000Z
DTEND:20210723T181500Z
DTSTAMP:20210512T181045Z
URL:https://www.sg-muelchi.ch/termin/feldschiessen-6/
SUMMARY:Feldschiessen
DESCRIPTION:
CATEGORIES:Bundesübung,Jahresmeisterschaft
LOCATION:Schützenhaus - Limpach\, Schützenhaus\, Limpach\, Bern\, 3317\, 
 Verwaltungskreis Bern-Mittelland\, Schweiz
GEO:47.105478;7.490959
X-APPLE-STRUCTURED-LOCATION;VALUE=URI;X-ADDRESS=Schützenhaus\, Limpach\, B
 ern\, 3317\, Verwaltungskreis Bern-Mittelland\, Schweiz;X-APPLE-RADIUS=100
 ;X-TITLE=Schützenhaus - Limpach:geo:47.105478,7.490959
END:VEVENT
END:VCALENDAR