BEGIN:VCALENDAR
VERSION:2.0
PRODID:-//wp-events-plugin.com//7.2.3.1//EN
TZID:Europe/Zurich
X-WR-TIMEZONE:Europe/Zurich
BEGIN:VEVENT
UID:78@sg-muelchi.ch
DTSTART;VALUE=DATE:20210814
DTEND;VALUE=DATE:20210815
DTSTAMP:20210203T081110Z
URL:https://www.sg-muelchi.ch/termin/final-schweizer-gruppenmeisterschaft-
 gewehr-300m-2/
SUMMARY:Final Schweizer Gruppenmeisterschaft Gewehr 300M
DESCRIPTION:
CATEGORIES:extern
LOCATION:Schützenhaus - Guntelsey Thun\, Guntelsey\, Thun\, Bern\, 3645\, 
 Verwaltungskreis Thun\, Schweiz
GEO:46.722994;7.606022
X-APPLE-STRUCTURED-LOCATION;VALUE=URI;X-ADDRESS=Guntelsey\, Thun\, Bern\, 3
 645\, Verwaltungskreis Thun\, Schweiz;X-APPLE-RADIUS=100;X-TITLE=Schützen
 haus - Guntelsey Thun:geo:46.722994,7.606022
END:VEVENT
END:VCALENDAR