BEGIN:VCALENDAR
VERSION:2.0
PRODID:-//wp-events-plugin.com//7.2.3.1//EN
TZID:Europe/Zurich
X-WR-TIMEZONE:Europe/Zurich
BEGIN:VEVENT
UID:65@sg-muelchi.ch
DTSTART;TZID=Europe/Zurich:20200912T080000
DTEND;TZID=Europe/Zurich:20200912T180000
DTSTAMP:20200724T093640Z
URL:https://www.sg-muelchi.ch/termin/final-schweizer-gruppenmeisterschaft-
 gewehr-300m/
SUMMARY:Final schweizer Gruppenmeisterschaft Gewehr 300M
DESCRIPTION:
CATEGORIES:extern
LOCATION:Schützenhaus - Hüslenmoos Emmen\, Hüslenmoos\, Emmen\, Luzern\,
  6032\, Schweiz
GEO:47.098313;8.304068
X-APPLE-STRUCTURED-LOCATION;VALUE=URI;X-ADDRESS=Hüslenmoos\, Emmen\, Luzer
 n\, 6032\, Schweiz;X-APPLE-RADIUS=100;X-TITLE=Schützenhaus - Hüslenmoos 
 Emmen:geo:47.098313,8.304068
END:VEVENT
BEGIN:VTIMEZONE
TZID:Europe/Zurich
X-LIC-LOCATION:Europe/Zurich
BEGIN:DAYLIGHT
DTSTART:20200329T030000
TZOFFSETFROM:+0100
TZOFFSETTO:+0200
TZNAME:CEST
END:DAYLIGHT
END:VTIMEZONE
END:VCALENDAR