BEGIN:VCALENDAR
VERSION:2.0
PRODID:-//wp-events-plugin.com//7.2.3.1//EN
TZID:Europe/Zurich
X-WR-TIMEZONE:Europe/Zurich
BEGIN:VEVENT
UID:10112@sg-muelchi.ch
DTSTART;TZID=Europe/Zurich:20251025T103000
DTEND;TZID=Europe/Zurich:20251025T233000
DTSTAMP:20250225T122005Z
URL:https://www.sg-muelchi.ch/termin/gueggelifest-limpach/
SUMMARY:Güggelifest
DESCRIPTION:
CATEGORIES:Diverses
LOCATION:Diverse - Güggelihalle Schachen\, Schachen 3\, Limpach\, Bern\, 3
 317\, Verwaltungskreis Bern-Mittelland\, Schweiz
GEO:47.109042;7.50495
X-APPLE-STRUCTURED-LOCATION;VALUE=URI;X-ADDRESS=Schachen 3\, Limpach\, Bern
 \, 3317\, Verwaltungskreis Bern-Mittelland\, Schweiz;X-APPLE-RADIUS=100;X-
 TITLE=Diverse - Güggelihalle Schachen:geo:47.109042,7.50495
END:VEVENT
BEGIN:VTIMEZONE
TZID:Europe/Zurich
X-LIC-LOCATION:Europe/Zurich
BEGIN:DAYLIGHT
DTSTART:20250330T030000
TZOFFSETFROM:+0100
TZOFFSETTO:+0200
TZNAME:CEST
END:DAYLIGHT
END:VTIMEZONE
END:VCALENDAR