BEGIN:VCALENDAR
VERSION:2.0
PRODID:-//wp-events-plugin.com//7.2.3.1//EN
TZID:Europe/Zurich
X-WR-TIMEZONE:Europe/Zurich
BEGIN:VEVENT
UID:82@sg-muelchi.ch
DTSTART:20210306T070000Z
DTEND:20210306T130000Z
DTSTAMP:20210203T104323Z
URL:https://www.sg-muelchi.ch/termin/holzen-arbeiten-im-und-ums-schuetzenh
 aus/
SUMMARY:Holzen / Arbeiten im und ums Schützenhaus
DESCRIPTION:Verantwortlichkeiten:\n\n\n\nHolzen:\nKunz Simon\n\n\nSchützen
 haus\nKunz Stefan\n\n\n\n\n\n\n\n&nbsp\;\n\n&nbsp\;\n\n&nbsp\;\n\n&nbsp\;
CATEGORIES:intern
LOCATION:Schützenhaus - Mülchi\, Mühlegässli\, Mülchi\, Bern\, 3317\, 
 Verwaltungskreis Bern-Mittelland\, Schweiz
GEO:47.097152;7.477913
X-APPLE-STRUCTURED-LOCATION;VALUE=URI;X-ADDRESS=Mühlegässli\, Mülchi\, B
 ern\, 3317\, Verwaltungskreis Bern-Mittelland\, Schweiz;X-APPLE-RADIUS=100
 ;X-TITLE=Schützenhaus - Mülchi:geo:47.097152,7.477913
END:VEVENT
END:VCALENDAR