BEGIN:VCALENDAR
VERSION:2.0
PRODID:-//wp-events-plugin.com//7.2.3.1//EN
TZID:Europe/Zurich
X-WR-TIMEZONE:Europe/Zurich
BEGIN:VEVENT
UID:10113@sg-muelchi.ch
DTSTART;TZID=Europe/Zurich:20251018T100000
DTEND;TZID=Europe/Zurich:20251018T160000
DTSTAMP:20250225T123153Z
URL:https://www.sg-muelchi.ch/termin/kaeseschnittenessen/
SUMMARY:Käseschnittenessen
DESCRIPTION:
CATEGORIES:Diverses
LOCATION:Diverse - Mehrzweckgebäude Mülchi\, Hauptstrasse 31\, Mülchi\, 
 Bern\, 3306\, Verwaltungskreis Bern-Mittelland\, Schweiz
GEO:47.100147;7.47654
X-APPLE-STRUCTURED-LOCATION;VALUE=URI;X-ADDRESS=Hauptstrasse 31\, Mülchi\,
  Bern\, 3306\, Verwaltungskreis Bern-Mittelland\, Schweiz;X-APPLE-RADIUS=1
 00;X-TITLE=Diverse - Mehrzweckgebäude Mülchi:geo:47.100147,7.47654
END:VEVENT
BEGIN:VTIMEZONE
TZID:Europe/Zurich
X-LIC-LOCATION:Europe/Zurich
BEGIN:DAYLIGHT
DTSTART:20250330T030000
TZOFFSETFROM:+0100
TZOFFSETTO:+0200
TZNAME:CEST
END:DAYLIGHT
END:VTIMEZONE
END:VCALENDAR