BEGIN:VCALENDAR
VERSION:2.0
PRODID:-//wp-events-plugin.com//7.2.3.1//EN
TZID:Europe/Zurich
X-WR-TIMEZONE:Europe/Zurich
BEGIN:VEVENT
UID:10091@sg-muelchi.ch
DTSTART;TZID=Europe/Zurich;VALUE=DATE:20250816
DTEND;TZID=Europe/Zurich;VALUE=DATE:20250817
DTSTAMP:20250212T105040Z
URL:https://www.sg-muelchi.ch/termin/kantonalfinal-jungschuetzen-balsthal/
SUMMARY:Kantonalfinal Jungschützen (Balsthal)
DESCRIPTION:
CATEGORIES:extern,Jungschützenkurs,Schiessen
LOCATION:noch nicht definiert\, noch nicht definiert\, noch nicht definiert
 \, Schweiz
X-APPLE-STRUCTURED-LOCATION;VALUE=URI;X-ADDRESS=noch nicht definiert\, noch
  nicht definiert\, Schweiz;X-APPLE-RADIUS=100;X-TITLE=noch nicht definiert
 :geo:0,0
END:VEVENT
BEGIN:VTIMEZONE
TZID:Europe/Zurich
X-LIC-LOCATION:Europe/Zurich
BEGIN:DAYLIGHT
DTSTART:20250330T030000
TZOFFSETFROM:+0100
TZOFFSETTO:+0200
TZNAME:CEST
END:DAYLIGHT
END:VTIMEZONE
END:VCALENDAR