BEGIN:VCALENDAR
VERSION:2.0
PRODID:-//wp-events-plugin.com//7.2.3.1//EN
TZID:Europe/Zurich
X-WR-TIMEZONE:Europe/Zurich
BEGIN:VEVENT
UID:10096@sg-muelchi.ch
DTSTART;TZID=Europe/Zurich:20250824T090000
DTEND;TZID=Europe/Zurich:20250824T113000
DTSTAMP:20250212T104912Z
URL:https://www.sg-muelchi.ch/termin/kirchgemeindeschiessen-1230-rangverku
 endigung/
SUMMARY:Kirchgemeindeschiessen / 12:30 Rangverkündigung
DESCRIPTION:
LOCATION:Schützenhaus - Ruppoldsried\, Hauptstrasse\, Ruppoldsried\, Bern\
 , 3251\, Verwaltungskreis Bern-Mittelland\, Schweiz
GEO:47.089176;7.433195
X-APPLE-STRUCTURED-LOCATION;VALUE=URI;X-ADDRESS=Hauptstrasse\, Ruppoldsried
 \, Bern\, 3251\, Verwaltungskreis Bern-Mittelland\, Schweiz;X-APPLE-RADIUS
 =100;X-TITLE=Schützenhaus - Ruppoldsried:geo:47.089176,7.433195
END:VEVENT
BEGIN:VTIMEZONE
TZID:Europe/Zurich
X-LIC-LOCATION:Europe/Zurich
BEGIN:DAYLIGHT
DTSTART:20250330T030000
TZOFFSETFROM:+0100
TZOFFSETTO:+0200
TZNAME:CEST
END:DAYLIGHT
END:VTIMEZONE
END:VCALENDAR