BEGIN:VCALENDAR
VERSION:2.0
PRODID:-//wp-events-plugin.com//7.2.3.1//EN
TZID:Europe/Zurich
X-WR-TIMEZONE:Europe/Zurich
BEGIN:VEVENT
UID:40@sg-muelchi.ch
DTSTART;TZID=Europe/Zurich:20200906T093000
DTEND;TZID=Europe/Zurich:20200906T120000
DTSTAMP:20200901T152230Z
URL:https://www.sg-muelchi.ch/termin/kirchgemeindeschiessen-rangv-13-uhr/
SUMMARY:Kirchgemeindeschiessen (intern)
DESCRIPTION:Anschliessend wird beim Schützenhaus grilliert.
CATEGORIES:Jahresmeisterschaft
LOCATION:Schützenhaus - Mülchi\, Mühlegässli\, Mülchi\, Bern\, 3317\, 
 Verwaltungskreis Bern-Mittelland\, Schweiz
GEO:47.097152;7.477913
X-APPLE-STRUCTURED-LOCATION;VALUE=URI;X-ADDRESS=Mühlegässli\, Mülchi\, B
 ern\, 3317\, Verwaltungskreis Bern-Mittelland\, Schweiz;X-APPLE-RADIUS=100
 ;X-TITLE=Schützenhaus - Mülchi:geo:47.097152,7.477913
END:VEVENT
BEGIN:VTIMEZONE
TZID:Europe/Zurich
X-LIC-LOCATION:Europe/Zurich
BEGIN:DAYLIGHT
DTSTART:20200329T030000
TZOFFSETFROM:+0100
TZOFFSETTO:+0200
TZNAME:CEST
END:DAYLIGHT
END:VTIMEZONE
END:VCALENDAR