BEGIN:VCALENDAR
VERSION:2.0
PRODID:-//wp-events-plugin.com//7.2.3.1//EN
TZID:Europe/Zurich
X-WR-TIMEZONE:Europe/Zurich
BEGIN:VEVENT
UID:10115@sg-muelchi.ch
DTSTART;TZID=Europe/Zurich;VALUE=DATE:20250906
DTEND;TZID=Europe/Zurich;VALUE=DATE:20250907
DTSTAMP:20250301T161723Z
URL:https://www.sg-muelchi.ch/termin/landesteilschiessen-jura/
SUMMARY:Landesteilschiessen Jura
DESCRIPTION:
CATEGORIES:extern,Schützenfest
END:VEVENT
BEGIN:VTIMEZONE
TZID:Europe/Zurich
X-LIC-LOCATION:Europe/Zurich
BEGIN:DAYLIGHT
DTSTART:20250330T030000
TZOFFSETFROM:+0100
TZOFFSETTO:+0200
TZNAME:CEST
END:DAYLIGHT
END:VTIMEZONE
END:VCALENDAR