BEGIN:VCALENDAR
VERSION:2.0
PRODID:-//wp-events-plugin.com//7.2.3.1//EN
TZID:Europe/Zurich
X-WR-TIMEZONE:Europe/Zurich
BEGIN:VEVENT
UID:10108@sg-muelchi.ch
DTSTART;TZID=Europe/Zurich:20251102T130000
DTEND;TZID=Europe/Zurich:20251102T180000
DTSTAMP:20250625T070327Z
URL:https://www.sg-muelchi.ch/termin/lotto2025-2/
SUMMARY:Lotto
DESCRIPTION:
CATEGORIES:intern
LOCATION:Diverse - Mehrzweckgebäude Mülchi\, Hauptstrasse 31\, Mülchi\, 
 Bern\, 3306\, Verwaltungskreis Bern-Mittelland\, Schweiz
GEO:47.100147;7.47654
X-APPLE-STRUCTURED-LOCATION;VALUE=URI;X-ADDRESS=Hauptstrasse 31\, Mülchi\,
  Bern\, 3306\, Verwaltungskreis Bern-Mittelland\, Schweiz;X-APPLE-RADIUS=1
 00;X-TITLE=Diverse - Mehrzweckgebäude Mülchi:geo:47.100147,7.47654
END:VEVENT
BEGIN:VTIMEZONE
TZID:Europe/Zurich
X-LIC-LOCATION:Europe/Zurich
BEGIN:STANDARD
DTSTART:20251026T020000
TZOFFSETFROM:+0200
TZOFFSETTO:+0100
TZNAME:CET
END:STANDARD
END:VTIMEZONE
END:VCALENDAR