BEGIN:VCALENDAR
VERSION:2.0
PRODID:-//wp-events-plugin.com//7.2.3.1//EN
TZID:Europe/Zurich
X-WR-TIMEZONE:Europe/Zurich
BEGIN:VEVENT
UID:10109@sg-muelchi.ch
DTSTART;TZID=Europe/Zurich:20251122T190000
DTEND;TZID=Europe/Zurich:20251122T230000
DTSTAMP:20250828T180809Z
URL:https://www.sg-muelchi.ch/termin/schuetzenabend-5/
SUMMARY:Schützenabend
DESCRIPTION:
CATEGORIES:intern
LOCATION:Restaurant Löwen Kernenried\, Restaurant - Löwen Kernenried\, Ke
 rnenried\, 3309\, Bern\, Schweiz
GEO:47.072882;7.553062
X-APPLE-STRUCTURED-LOCATION;VALUE=URI;X-ADDRESS=Restaurant - Löwen Kernenr
 ied\, Kernenried\, 3309\, Bern\, Schweiz;X-APPLE-RADIUS=100;X-TITLE=Restau
 rant Löwen Kernenried:geo:47.072882,7.553062
END:VEVENT
BEGIN:VTIMEZONE
TZID:Europe/Zurich
X-LIC-LOCATION:Europe/Zurich
BEGIN:STANDARD
DTSTART:20251026T020000
TZOFFSETFROM:+0200
TZOFFSETTO:+0100
TZNAME:CET
END:STANDARD
END:VTIMEZONE
END:VCALENDAR