BEGIN:VCALENDAR
VERSION:2.0
PRODID:-//wp-events-plugin.com//7.2.3.1//EN
TZID:Europe/Zurich
X-WR-TIMEZONE:Europe/Zurich
BEGIN:VEVENT
UID:80@sg-muelchi.ch
DTSTART;VALUE=DATE:20210605
DTEND;VALUE=DATE:20210606
DTSTAMP:20210302T133006Z
URL:https://www.sg-muelchi.ch/termin/schuetzenfest-luzern-eroeffnungsschie
 ssen/
SUMMARY:Eidg. Schützenfest Luzern - Eröffnungsschiessen
DESCRIPTION:
CATEGORIES:Schützenfest
END:VEVENT
END:VCALENDAR