BEGIN:VCALENDAR
VERSION:2.0
PRODID:-//wp-events-plugin.com//7.2.3.1//EN
TZID:Europe/Zurich
X-WR-TIMEZONE:Europe/Zurich
BEGIN:VEVENT
UID:81@sg-muelchi.ch
DTSTART:20210710T073000Z
DTEND:20210710T150000Z
DTSTAMP:20210517T180209Z
URL:https://www.sg-muelchi.ch/termin/schuetzenfest-luzern/
SUMMARY:Eidg. Schützenfest Luzern (in Mülchi)
DESCRIPTION:09:30 - 12:00\n13:30 - 17:00
CATEGORIES:Schützenfest
LOCATION:Schützenhaus - Mülchi\, Mühlegässli\, Mülchi\, Bern\, 3317\, 
 Verwaltungskreis Bern-Mittelland\, Schweiz
GEO:47.097152;7.477913
X-APPLE-STRUCTURED-LOCATION;VALUE=URI;X-ADDRESS=Mühlegässli\, Mülchi\, B
 ern\, 3317\, Verwaltungskreis Bern-Mittelland\, Schweiz;X-APPLE-RADIUS=100
 ;X-TITLE=Schützenhaus - Mülchi:geo:47.097152,7.477913
END:VEVENT
END:VCALENDAR