BEGIN:VCALENDAR
VERSION:2.0
PRODID:-//wp-events-plugin.com//7.2.3.1//EN
TZID:Europe/Zurich
X-WR-TIMEZONE:Europe/Zurich
BEGIN:VEVENT
UID:94@sg-muelchi.ch
DTSTART:20210424T063000Z
DTEND:20210424T093000Z
DTSTAMP:20210401T063715Z
URL:https://www.sg-muelchi.ch/termin/training-dez-match-oamv-2/
SUMMARY:Training DEZ - Match OAMV
DESCRIPTION:Die Zuständigkeiten können im [Ämtliplan] nachgesehen werden
 .
LOCATION:Schützenhaus - Mülchi\, Mühlegässli\, Mülchi\, Bern\, 3317\, 
 Verwaltungskreis Bern-Mittelland\, Schweiz
GEO:47.097152;7.477913
X-APPLE-STRUCTURED-LOCATION;VALUE=URI;X-ADDRESS=Mühlegässli\, Mülchi\, B
 ern\, 3317\, Verwaltungskreis Bern-Mittelland\, Schweiz;X-APPLE-RADIUS=100
 ;X-TITLE=Schützenhaus - Mülchi:geo:47.097152,7.477913
END:VEVENT
END:VCALENDAR