BEGIN:VCALENDAR
VERSION:2.0
PRODID:-//wp-events-plugin.com//7.2.3.1//EN
TZID:Europe/Zurich
X-WR-TIMEZONE:Europe/Zurich
BEGIN:VEVENT
UID:13@sg-muelchi.ch
DTSTART;TZID=Europe/Zurich:20200418T083000
DTEND;TZID=Europe/Zurich:20200418T113000
DTSTAMP:20200218T112113Z
URL:https://www.sg-muelchi.ch/termin/training-dez-match-oamv/
SUMMARY:Training - DEZ - Match OAMV
DESCRIPTION:Verantwortlichkeiten:\n\n\n\nSchützenmeister:\nSalzmann Werner
 \n\n\nSta. + Munition:\nSalzmann Werner\n\n\nWirt:\nSalzmann Werner\n\n\n
CATEGORIES:intern
LOCATION:Schützenhaus - Mülchi\, Mühlegässli\, Mülchi\, Bern\, 3317\, 
 Verwaltungskreis Bern-Mittelland\, Schweiz
GEO:47.097152;7.477913
X-APPLE-STRUCTURED-LOCATION;VALUE=URI;X-ADDRESS=Mühlegässli\, Mülchi\, B
 ern\, 3317\, Verwaltungskreis Bern-Mittelland\, Schweiz;X-APPLE-RADIUS=100
 ;X-TITLE=Schützenhaus - Mülchi:geo:47.097152,7.477913
END:VEVENT
BEGIN:VTIMEZONE
TZID:Europe/Zurich
X-LIC-LOCATION:Europe/Zurich
BEGIN:DAYLIGHT
DTSTART:20200329T030000
TZOFFSETFROM:+0100
TZOFFSETTO:+0200
TZNAME:CEST
END:DAYLIGHT
END:VTIMEZONE
END:VCALENDAR