BEGIN:VCALENDAR
VERSION:2.0
PRODID:-//wp-events-plugin.com//7.2.3.1//EN
TZID:Europe/Zurich
X-WR-TIMEZONE:Europe/Zurich
BEGIN:VEVENT
UID:10117@sg-muelchi.ch
DTSTART;TZID=Europe/Zurich:20250926T133000
DTEND;TZID=Europe/Zurich:20250926T180000
DTSTAMP:20250306T062719Z
URL:https://www.sg-muelchi.ch/termin/veteranen-cup-kantonal-final-schwarze
 nburg/
SUMMARY:Veteranen-Cup: Kantonal-Final
DESCRIPTION:
CATEGORIES:extern
LOCATION:Schützenhaus - Schwarzenburg\, Dorfmattenstrasse 13A\, Schwarzenb
 urg\, Bern\, 3150\, Bern\, Schweiz
GEO:46.811834;7.347545
X-APPLE-STRUCTURED-LOCATION;VALUE=URI;X-ADDRESS=Dorfmattenstrasse 13A\, Sch
 warzenburg\, Bern\, 3150\, Bern\, Schweiz;X-APPLE-RADIUS=100;X-TITLE=Schü
 tzenhaus - Schwarzenburg:geo:46.811834,7.347545
END:VEVENT
BEGIN:VTIMEZONE
TZID:Europe/Zurich
X-LIC-LOCATION:Europe/Zurich
BEGIN:DAYLIGHT
DTSTART:20250330T030000
TZOFFSETFROM:+0100
TZOFFSETTO:+0200
TZNAME:CEST
END:DAYLIGHT
END:VTIMEZONE
END:VCALENDAR