BEGIN:VCALENDAR
VERSION:2.0
PRODID:-//wp-events-plugin.com//7.2.3.1//EN
TZID:Europe/Zurich
X-WR-TIMEZONE:Europe/Zurich
BEGIN:VEVENT
UID:10116@sg-muelchi.ch
DTSTART;TZID=Europe/Zurich:20250829T153000
DTEND;TZID=Europe/Zurich:20250829T200000
DTSTAMP:20250306T063013Z
URL:https://www.sg-muelchi.ch/termin/veteranen-cup-oberaargauer-final-melc
 hnau/
SUMMARY:Veteranen-Cup: Oberaargauer-Final
DESCRIPTION:
CATEGORIES:extern
LOCATION:Schützenhaus - Melchnau\, Fischbächli 1/h\, Melchnau\, 4915\, Sc
 hweiz
GEO:47.174955;7.872621
X-APPLE-STRUCTURED-LOCATION;VALUE=URI;X-ADDRESS=Fischbächli 1/h\, Melchnau
 \, 4915\, Schweiz;X-APPLE-RADIUS=100;X-TITLE=Schützenhaus - Melchnau:geo:
 47.174955,7.872621
END:VEVENT
BEGIN:VTIMEZONE
TZID:Europe/Zurich
X-LIC-LOCATION:Europe/Zurich
BEGIN:DAYLIGHT
DTSTART:20250330T030000
TZOFFSETFROM:+0100
TZOFFSETTO:+0200
TZNAME:CEST
END:DAYLIGHT
END:VTIMEZONE
END:VCALENDAR