BEGIN:VCALENDAR
VERSION:2.0
PRODID:-//wp-events-plugin.com//7.2.3.1//EN
TZID:Europe/Zurich
X-WR-TIMEZONE:Europe/Zurich
BEGIN:VEVENT
UID:91@sg-muelchi.ch
DTSTART:20210420T160000Z
DTEND:20210420T180000Z
DTSTAMP:20210203T074328Z
URL:https://www.sg-muelchi.ch/termin/vorschiessen-einzelwettschiessen-2/
SUMMARY:Vorschiessen Einzelwettschiessen
DESCRIPTION:
LOCATION:Schützenhaus - Limpach\, Schützenhaus\, Limpach\, Bern\, 3317\, 
 Verwaltungskreis Bern-Mittelland\, Schweiz
GEO:47.105478;7.490959
X-APPLE-STRUCTURED-LOCATION;VALUE=URI;X-ADDRESS=Schützenhaus\, Limpach\, B
 ern\, 3317\, Verwaltungskreis Bern-Mittelland\, Schweiz;X-APPLE-RADIUS=100
 ;X-TITLE=Schützenhaus - Limpach:geo:47.105478,7.490959
END:VEVENT
END:VCALENDAR