BEGIN:VCALENDAR
VERSION:2.0
PRODID:-//wp-events-plugin.com//7.2.3.1//EN
TZID:Europe/Zurich
X-WR-TIMEZONE:Europe/Zurich
BEGIN:VEVENT
UID:36@sg-muelchi.ch
DTSTART;TZID=Europe/Zurich:20200829T170000
DTEND;TZID=Europe/Zurich:20200829T200000
DTSTAMP:20200217T085849Z
URL:https://www.sg-muelchi.ch/termin/vorschiessen-kirchgemeindeschiessen/
SUMMARY:Vorschiessen Kirchgemeindeschiessen
DESCRIPTION:
CATEGORIES:Jahresmeisterschaft
LOCATION:Schützenhaus - Balm b. Messen\, Hauptstrasse 59\, Balm b. Messen\
 , Solothurn\, 3254\, Bucheggberg\, Schweiz
GEO:47.100162;7.427831
X-APPLE-STRUCTURED-LOCATION;VALUE=URI;X-ADDRESS=Hauptstrasse 59\, Balm b. M
 essen\, Solothurn\, 3254\, Bucheggberg\, Schweiz;X-APPLE-RADIUS=100;X-TITL
 E=Schützenhaus - Balm b. Messen:geo:47.100162,7.427831
END:VEVENT
BEGIN:VTIMEZONE
TZID:Europe/Zurich
X-LIC-LOCATION:Europe/Zurich
BEGIN:DAYLIGHT
DTSTART:20200329T030000
TZOFFSETFROM:+0100
TZOFFSETTO:+0200
TZNAME:CEST
END:DAYLIGHT
END:VTIMEZONE
END:VCALENDAR