BEGIN:VCALENDAR
VERSION:2.0
PRODID:-//wp-events-plugin.com//7.2.3.1//EN
TZID:Europe/Zurich
X-WR-TIMEZONE:Europe/Zurich
BEGIN:VEVENT
UID:84@sg-muelchi.ch
DTSTART:20210314T080000Z
DTEND:20210314T100000Z
DTSTAMP:20210203T102715Z
URL:https://www.sg-muelchi.ch/termin/vorueben-buri-cup-freies-ueben-2/
SUMMARY:Vorüben Buri-Cup / Freies Üben
DESCRIPTION:Verantwortlichkeiten:\n\n\n\nSchützenmeister:\nRohrbach Markus
 \n\n\nSta. + Munition:\nLoosli Martin\n\n\nWirt:\n-\n\n\n\n&nbsp\;\n\n&nbs
 p\;\n\n&nbsp\;\n\n&nbsp\;
CATEGORIES:Buri-Cup,intern,Üben
LOCATION:Schützenhaus - Mülchi\, Mühlegässli\, Mülchi\, Bern\, 3317\, 
 Verwaltungskreis Bern-Mittelland\, Schweiz
GEO:47.097152;7.477913
X-APPLE-STRUCTURED-LOCATION;VALUE=URI;X-ADDRESS=Mühlegässli\, Mülchi\, B
 ern\, 3317\, Verwaltungskreis Bern-Mittelland\, Schweiz;X-APPLE-RADIUS=100
 ;X-TITLE=Schützenhaus - Mülchi:geo:47.097152,7.477913
END:VEVENT
END:VCALENDAR