BEGIN:VCALENDAR
VERSION:2.0
PRODID:-//wp-events-plugin.com//7.2.3.1//EN
TZID:Europe/Zurich
X-WR-TIMEZONE:Europe/Zurich
BEGIN:VEVENT
UID:90@sg-muelchi.ch
DTSTART:20210413T160000Z
DTEND:20210413T180000Z
DTSTAMP:20210401T063650Z
URL:https://www.sg-muelchi.ch/termin/vorueben-buri-cup-freies-ueben-6/
SUMMARY:Vorüben Buri-Cup / Freies Üben
DESCRIPTION:Die Zuständigkeiten können im [Ämtliplan] nachgesehen werden
 .
CATEGORIES:Buri-Cup,intern,Üben
LOCATION:Schützenhaus - Mülchi\, Mühlegässli\, Mülchi\, Bern\, 3317\, 
 Verwaltungskreis Bern-Mittelland\, Schweiz
GEO:47.097152;7.477913
X-APPLE-STRUCTURED-LOCATION;VALUE=URI;X-ADDRESS=Mühlegässli\, Mülchi\, B
 ern\, 3317\, Verwaltungskreis Bern-Mittelland\, Schweiz;X-APPLE-RADIUS=100
 ;X-TITLE=Schützenhaus - Mülchi:geo:47.097152,7.477913
END:VEVENT
END:VCALENDAR