BEGIN:VCALENDAR
VERSION:2.0
PRODID:-//wp-events-plugin.com//7.2.3.1//EN
TZID:Europe/Zurich
X-WR-TIMEZONE:Europe/Zurich
BEGIN:VEVENT
UID:10130@sg-muelchi.ch
DTSTART;TZID=Europe/Zurich:20260315T100000
DTEND;TZID=Europe/Zurich:20260315T120000
DTSTAMP:20260217T092713Z
URL:https://www.sg-muelchi.ch/termin/vorueben-buricup-freies-ueben-16/
SUMMARY:Vorüben Buricup / Freies Üben
DESCRIPTION:
CATEGORIES:Üben
LOCATION:Schützenhaus - Mülchi\, Mühlegässli\, Mülchi\, Bern\, 3317\, 
 Verwaltungskreis Bern-Mittelland\, Schweiz
GEO:47.097152;7.477913
X-APPLE-STRUCTURED-LOCATION;VALUE=URI;X-ADDRESS=Mühlegässli\, Mülchi\, B
 ern\, 3317\, Verwaltungskreis Bern-Mittelland\, Schweiz;X-APPLE-RADIUS=100
 ;X-TITLE=Schützenhaus - Mülchi:geo:47.097152,7.477913
END:VEVENT
BEGIN:VTIMEZONE
TZID:Europe/Zurich
X-LIC-LOCATION:Europe/Zurich
BEGIN:STANDARD
DTSTART:20251026T020000
TZOFFSETFROM:+0200
TZOFFSETTO:+0100
TZNAME:CET
END:STANDARD
END:VTIMEZONE
END:VCALENDAR