BEGIN:VCALENDAR
VERSION:2.0
PRODID:-//wp-events-plugin.com//7.2.3.1//EN
TZID:Europe/Zurich
X-WR-TIMEZONE:Europe/Zurich
BEGIN:VEVENT
UID:7@sg-muelchi.ch
DTSTART;TZID=Europe/Zurich:20200308T100000
DTEND;TZID=Europe/Zurich:20200308T120000
DTSTAMP:20200218T110145Z
URL:https://www.sg-muelchi.ch/termin/vorueben-buricup-freies-ueben/
SUMMARY:Vorüben Buricup / freies Üben
DESCRIPTION:Verantwortlichkeiten:\n\n\n\nSchützenmeister:\nKunz Stefan\n\n
 \nSta. + Munition:\nRuchti Hans\n\n\nWirt:\n-\n\n\n
CATEGORIES:intern
LOCATION:Schützenhaus - Mülchi\, Mühlegässli\, Mülchi\, Bern\, 3317\, 
 Verwaltungskreis Bern-Mittelland\, Schweiz
GEO:47.097152;7.477913
X-APPLE-STRUCTURED-LOCATION;VALUE=URI;X-ADDRESS=Mühlegässli\, Mülchi\, B
 ern\, 3317\, Verwaltungskreis Bern-Mittelland\, Schweiz;X-APPLE-RADIUS=100
 ;X-TITLE=Schützenhaus - Mülchi:geo:47.097152,7.477913
END:VEVENT
BEGIN:VTIMEZONE
TZID:Europe/Zurich
X-LIC-LOCATION:Europe/Zurich
BEGIN:STANDARD
DTSTART:20191027T020000
TZOFFSETFROM:+0200
TZOFFSETTO:+0100
TZNAME:CET
END:STANDARD
END:VTIMEZONE
END:VCALENDAR